BEGIN:VCALENDAR
VERSION:2.0
PRODID:-//Piedmont Master Gardeners - ECPv6.15.17.1//NONSGML v1.0//EN
CALSCALE:GREGORIAN
METHOD:PUBLISH
X-ORIGINAL-URL:https://staging.piedmontmastergardeners.org
X-WR-CALDESC:Events for Piedmont Master Gardeners
REFRESH-INTERVAL;VALUE=DURATION:PT1H
X-Robots-Tag:noindex
X-PUBLISHED-TTL:PT1H
BEGIN:VTIMEZONE
TZID:America/New_York
BEGIN:DAYLIGHT
TZOFFSETFROM:-0500
TZOFFSETTO:-0400
TZNAME:EDT
DTSTART:20220313T070000
END:DAYLIGHT
BEGIN:STANDARD
TZOFFSETFROM:-0400
TZOFFSETTO:-0500
TZNAME:EST
DTSTART:20221106T060000
END:STANDARD
BEGIN:DAYLIGHT
TZOFFSETFROM:-0500
TZOFFSETTO:-0400
TZNAME:EDT
DTSTART:20230312T070000
END:DAYLIGHT
BEGIN:STANDARD
TZOFFSETFROM:-0400
TZOFFSETTO:-0500
TZNAME:EST
DTSTART:20231105T060000
END:STANDARD
BEGIN:DAYLIGHT
TZOFFSETFROM:-0500
TZOFFSETTO:-0400
TZNAME:EDT
DTSTART:20240310T070000
END:DAYLIGHT
BEGIN:STANDARD
TZOFFSETFROM:-0400
TZOFFSETTO:-0500
TZNAME:EST
DTSTART:20241103T060000
END:STANDARD
END:VTIMEZONE
BEGIN:VEVENT
DTSTART;TZID=America/New_York:20230302T190000
DTEND;TZID=America/New_York:20230302T201500
DTSTAMP:20260420T153806
CREATED:20230116T030448Z
LAST-MODIFIED:20230116T030448Z
UID:44418-1677783600-1677788100@staging.piedmontmastergardeners.org
SUMMARY:Spring Lecture Series—Michael Carter Jr.\, "Africulture and Unique Organic Vegetables You’ll Want in Your Home Garden"
DESCRIPTION:In this online presentation\, Michael Carter Jr. will highlight the many contributions the African continent and people of African descent have made to farming and food traditions in the United States. He will also introduce some of the unique plants he grows organically at his family’s certified Virginia Century Farm in Orange County. Carter is the fifth generation of his family to farm this property and is managing director of Carter Farms and Africulture\, a nonprofit focused on educating the public about the principles\, practices\, plants\, and people of African descent that have contributed to U.S. agriculture.
URL:https://staging.piedmontmastergardeners.org/event/spring-lecture-series-michael-carter-jr-africulture-and-unique-organic-vegetables-youll-want-in-your-home-garden-2/
CATEGORIES:Spring Lecture Series
ATTACH;FMTTYPE=image/jpeg:https://staging.piedmontmastergardeners.org/wp-content/uploads/2023/01/March-2-Carter.jpg
LOCATION:https://staging.piedmontmastergardeners.org/event/spring-lecture-series-michael-carter-jr-africulture-and-unique-organic-vegetables-youll-want-in-your-home-garden-2/
END:VEVENT
END:VCALENDAR