BEGIN:VCALENDAR
VERSION:2.0
PRODID:-//Piedmont Master Gardeners - ECPv6.15.17.1//NONSGML v1.0//EN
CALSCALE:GREGORIAN
METHOD:PUBLISH
X-ORIGINAL-URL:https://staging.piedmontmastergardeners.org
X-WR-CALDESC:Events for Piedmont Master Gardeners
REFRESH-INTERVAL;VALUE=DURATION:PT1H
X-Robots-Tag:noindex
X-PUBLISHED-TTL:PT1H
BEGIN:VTIMEZONE
TZID:America/New_York
BEGIN:DAYLIGHT
TZOFFSETFROM:-0500
TZOFFSETTO:-0400
TZNAME:EDT
DTSTART:20240310T070000
END:DAYLIGHT
BEGIN:STANDARD
TZOFFSETFROM:-0400
TZOFFSETTO:-0500
TZNAME:EST
DTSTART:20241103T060000
END:STANDARD
BEGIN:DAYLIGHT
TZOFFSETFROM:-0500
TZOFFSETTO:-0400
TZNAME:EDT
DTSTART:20250309T070000
END:DAYLIGHT
BEGIN:STANDARD
TZOFFSETFROM:-0400
TZOFFSETTO:-0500
TZNAME:EST
DTSTART:20251102T060000
END:STANDARD
BEGIN:DAYLIGHT
TZOFFSETFROM:-0500
TZOFFSETTO:-0400
TZNAME:EDT
DTSTART:20260308T070000
END:DAYLIGHT
BEGIN:STANDARD
TZOFFSETFROM:-0400
TZOFFSETTO:-0500
TZNAME:EST
DTSTART:20261101T060000
END:STANDARD
END:VTIMEZONE
BEGIN:VEVENT
DTSTART;TZID=America/New_York:20250730T120000
DTEND;TZID=America/New_York:20250802T210000
DTSTAMP:20260420T194722
CREATED:20250625T191916Z
LAST-MODIFIED:20250801T113845Z
UID:46464-1753876800-1754168400@staging.piedmontmastergardeners.org
SUMMARY:Albemarle County Fair's Agriculture and Home Arts Contests
DESCRIPTION:Gardeners\, fruit growers\, brewers\, bakers\, beekeepers\, wine makers\, artists\, photographers\, and crafters are invited to enter the agriculture and home arts contests for this year’s Albemarle County Fair\, July 31 to August 2 at James Monroe’s Highland. Visit https://albemarlecountyfair.com/ to find contest categories and instructions and to register for the contests online. \nThe Piedmont Master Gardeners\, in partnership with Albemarle/Charlottesville 4-H Youth Development and other volunteers\, will accept entries from noon to 8 p.m. Wednesday\, July 30\, at the Agriculture and Home Arts Barn at Highland. Ribbon winners will be selected the next day and will be on display throughout the fair\, which runs from 4 to 9 p.m. Thursday\, July 31\, and from 10 a.m. to 9 p.m. Friday\, August 1\, and Saturday\, August 2. \nEntry submissions are free; fair admission is $5. Email ACFhortandarts@gmail.com for more information or assistance with registration. The fair will also showcase locally raised livestock and will offer live music\, food trucks and other attractions.
URL:https://staging.piedmontmastergardeners.org/event/albemarle-county-fairs-agriculture-and-home-arts-contests/
CATEGORIES:Albemarle County Fair
ATTACH;FMTTYPE=image/jpeg:https://staging.piedmontmastergardeners.org/wp-content/uploads/2025/06/2024_08_Albemarle-County-Fair_5-scaled.jpg
END:VEVENT
END:VCALENDAR